BEGIN:VCALENDAR
VERSION:2.0
PRODID:icalendar-ruby
CALSCALE:GREGORIAN
METHOD:PUBLISH
BEGIN:VEVENT
DTSTAMP:20260422T174115Z
UID:27-1531223@firstccog.org
DTSTART:20261008T230000Z
DTEND:20261008T233000Z
CLASS:PUBLIC
CREATED:20260422T112144
DESCRIPTION:
LAST-MODIFIED:20260422T112144
LOCATION:
SUMMARY:AA Meeting
URL;VALUE=URI:https://www.firstccog.org/events/aa-meeting/2026-10-08
ATTACH;FILENAME=Alcoholics-Anonymous.png;FMTTYPE=image/png:https://dq5pwpg1
 q8ru0.cloudfront.net/2025/04/01/21/06/20/771808a7-06f9-4b75-84b1-63c8d3ae8
 145/Alcoholics-Anonymous.png
END:VEVENT
END:VCALENDAR
