BEGIN:VCALENDAR
VERSION:2.0
PRODID:icalendar-ruby
CALSCALE:GREGORIAN
METHOD:PUBLISH
BEGIN:VEVENT
DTSTAMP:20260422T224032Z
UID:7-1532067@firstccog.org
DTSTART:20261025T133000Z
DTEND:20261025T143000Z
CLASS:PUBLIC
CREATED:20260422T171143
DESCRIPTION:Nursery service and coffee is available
LAST-MODIFIED:20260422T171143
LOCATION:Upstairs conference room
SUMMARY:Adult Bible Study
URL;VALUE=URI:https://www.firstccog.org/events/adult-bible-study/2026-10-25
ATTACH;FILENAME=Bible.png;FMTTYPE=image/png:https://dq5pwpg1q8ru0.cloudfron
 t.net/2025/04/01/21/09/46/5e4e4776-c3a7-40b7-955b-dbc2c48f9078/Bible.png
END:VEVENT
END:VCALENDAR
