BEGIN:VCALENDAR
VERSION:2.0
PRODID:icalendar-ruby
CALSCALE:GREGORIAN
METHOD:PUBLISH
BEGIN:VEVENT
DTSTAMP:20260424T093208Z
UID:26-1538096@firstccog.org
DTSTART:20260919T143000Z
DTEND:20260919T150000Z
CLASS:PUBLIC
CREATED:20260423T225937
DESCRIPTION:
LAST-MODIFIED:20260423T225937
LOCATION:Scout Room
SUMMARY:Daisy Troop Meeting
URL;VALUE=URI:https://www.firstccog.org/events/daisy-troop-meeting/2026-09-
 19
ATTACH;FILENAME=Daisy-Scouts.png;FMTTYPE=image/png:https://dq5pwpg1q8ru0.cl
 oudfront.net/2025/04/01/21/08/25/bc9f1af3-6253-4720-a2c5-cd51d0e2cb72/Dais
 y-Scouts.png
END:VEVENT
END:VCALENDAR
