BEGIN:VCALENDAR
VERSION:2.0
PRODID:icalendar-ruby
CALSCALE:GREGORIAN
METHOD:PUBLISH
BEGIN:VEVENT
DTSTAMP:20260421T193122Z
UID:19-1437972@firstccog.org
DTSTART:20260501T220000Z
DTEND:20260501T230000Z
CLASS:PUBLIC
CREATED:20260330T144656
DESCRIPTION:
LAST-MODIFIED:20260330T144656
LOCATION:
SUMMARY:Flat River Community Players Auditions
URL;VALUE=URI:https://www.firstccog.org/events/flat-river-community-players
 -auditions/2026-05-01
ATTACH;FILENAME=Flat-River-Community-Players.png;FMTTYPE=image/png:https://
 dq5pwpg1q8ru0.cloudfront.net/2025/04/01/21/13/38/554711c2-1969-4aca-9b17-4
 6a56f475040/Flat-River-Community-Players.png
END:VEVENT
END:VCALENDAR
