BEGIN:VCALENDAR
VERSION:2.0
PRODID:icalendar-ruby
CALSCALE:GREGORIAN
METHOD:PUBLISH
BEGIN:VEVENT
DTSTAMP:20260423T082913Z
UID:25-1533849@firstccog.org
DTSTART:20261017T140000Z
DTEND:20261017T143000Z
CLASS:PUBLIC
CREATED:20260422T225735
DESCRIPTION:
LAST-MODIFIED:20260422T225735
LOCATION:Scout Room
SUMMARY:Girl Scouts Meeting
URL;VALUE=URI:https://www.firstccog.org/events/girl-scouts-meeting/2026-10-
 17
ATTACH;FILENAME=Girl-Scouts.png;FMTTYPE=image/png:https://dq5pwpg1q8ru0.clo
 udfront.net/2025/04/01/21/06/47/f9fbda39-2465-4f9c-b72e-d31f72b62d24/Girl-
 Scouts.png
END:VEVENT
END:VCALENDAR
