BEGIN:VCALENDAR
VERSION:2.0
PRODID:icalendar-ruby
CALSCALE:GREGORIAN
METHOD:PUBLISH
BEGIN:VEVENT
DTSTAMP:20260422T222127Z
UID:24-1532379@firstccog.org
DTSTART:20260730T224500Z
DTEND:20260730T234500Z
CLASS:PUBLIC
CREATED:20260422T171145
DESCRIPTION:
LAST-MODIFIED:20260422T171145
LOCATION:Scout Room
SUMMARY:Scout Troop #9157 Meeting
URL;VALUE=URI:https://www.firstccog.org/events/scout-troop-9157-meeting/202
 6-07-30
ATTACH;FILENAME=General-Scouts-Badges.png;FMTTYPE=image/png:https://dq5pwpg
 1q8ru0.cloudfront.net/2025/04/01/21/05/56/0ecec202-6ea7-4f36-a73e-7be1b12d
 a35d/General-Scouts-Badges.png
END:VEVENT
END:VCALENDAR
